BEGIN:VCALENDAR
VERSION:2.0
PRODID:-//Hinton, Iowa - ECPv6.15.13//NONSGML v1.0//EN
CALSCALE:GREGORIAN
METHOD:PUBLISH
X-ORIGINAL-URL:https://hintoniowa.com
X-WR-CALDESC:Events for Hinton, Iowa
REFRESH-INTERVAL;VALUE=DURATION:PT1H
X-Robots-Tag:noindex
X-PUBLISHED-TTL:PT1H
BEGIN:VTIMEZONE
TZID:America/Chicago
BEGIN:DAYLIGHT
TZOFFSETFROM:-0600
TZOFFSETTO:-0500
TZNAME:CDT
DTSTART:20200308T080000
END:DAYLIGHT
BEGIN:STANDARD
TZOFFSETFROM:-0500
TZOFFSETTO:-0600
TZNAME:CST
DTSTART:20201101T070000
END:STANDARD
BEGIN:DAYLIGHT
TZOFFSETFROM:-0600
TZOFFSETTO:-0500
TZNAME:CDT
DTSTART:20210314T080000
END:DAYLIGHT
BEGIN:STANDARD
TZOFFSETFROM:-0500
TZOFFSETTO:-0600
TZNAME:CST
DTSTART:20211107T070000
END:STANDARD
BEGIN:DAYLIGHT
TZOFFSETFROM:-0600
TZOFFSETTO:-0500
TZNAME:CDT
DTSTART:20220313T080000
END:DAYLIGHT
BEGIN:STANDARD
TZOFFSETFROM:-0500
TZOFFSETTO:-0600
TZNAME:CST
DTSTART:20221106T070000
END:STANDARD
BEGIN:DAYLIGHT
TZOFFSETFROM:-0600
TZOFFSETTO:-0500
TZNAME:CDT
DTSTART:20230312T080000
END:DAYLIGHT
BEGIN:STANDARD
TZOFFSETFROM:-0500
TZOFFSETTO:-0600
TZNAME:CST
DTSTART:20231105T070000
END:STANDARD
BEGIN:DAYLIGHT
TZOFFSETFROM:-0600
TZOFFSETTO:-0500
TZNAME:CDT
DTSTART:20240310T080000
END:DAYLIGHT
BEGIN:STANDARD
TZOFFSETFROM:-0500
TZOFFSETTO:-0600
TZNAME:CST
DTSTART:20241103T070000
END:STANDARD
BEGIN:DAYLIGHT
TZOFFSETFROM:-0600
TZOFFSETTO:-0500
TZNAME:CDT
DTSTART:20250309T080000
END:DAYLIGHT
BEGIN:STANDARD
TZOFFSETFROM:-0500
TZOFFSETTO:-0600
TZNAME:CST
DTSTART:20251102T070000
END:STANDARD
BEGIN:DAYLIGHT
TZOFFSETFROM:-0600
TZOFFSETTO:-0500
TZNAME:CDT
DTSTART:20260308T080000
END:DAYLIGHT
BEGIN:STANDARD
TZOFFSETFROM:-0500
TZOFFSETTO:-0600
TZNAME:CST
DTSTART:20261101T070000
END:STANDARD
BEGIN:DAYLIGHT
TZOFFSETFROM:-0600
TZOFFSETTO:-0500
TZNAME:CDT
DTSTART:20270314T080000
END:DAYLIGHT
BEGIN:STANDARD
TZOFFSETFROM:-0500
TZOFFSETTO:-0600
TZNAME:CST
DTSTART:20271107T070000
END:STANDARD
END:VTIMEZONE
BEGIN:VEVENT
DTSTART;TZID=America/Chicago:20211204T140000
DTEND;TZID=America/Chicago:20211204T160000
DTSTAMP:20260425T091710
CREATED:20211111T154107Z
LAST-MODIFIED:20211111T154155Z
UID:1655-1638626400-1638633600@hintoniowa.com
SUMMARY:Hinton's Friendly Christmas Tree Rivalry
DESCRIPTION:Hinton’s Friendly Christmas tree rivalry dec 4th at 2
URL:https://hintoniowa.com/event/hintons-friendly-christmas-tree-rivalry/
LOCATION:Deer Run Golf Course Clubhouse
CATEGORIES:Community,General
ATTACH;FMTTYPE=image/png:https://hintoniowa.com/wp-content/uploads/2021/11/event2.png
END:VEVENT
BEGIN:VEVENT
DTSTART;TZID=America/Chicago:20211210T080000
DTEND;TZID=America/Chicago:20211220T170000
DTSTAMP:20260425T091710
CREATED:20211111T183457Z
LAST-MODIFIED:20211111T183457Z
UID:1672-1639123200-1640019600@hintoniowa.com
SUMMARY:Drive Through December Outdoor Holiday Light Contest
DESCRIPTION:December 10th-20th \nDeadline to Submit: December 8th\, 2021 \n$150 Donation to non profit of 1st & 2nd place choosing. \nto Enter fill out entry here:  \nDon’t forget to include your BEST exterior photo. \nWinners announced December 21st.
URL:https://hintoniowa.com/event/drive-through-december-outdoor-holiday-light-contest/
CATEGORIES:Community,General
ATTACH;FMTTYPE=image/jpeg:https://hintoniowa.com/wp-content/uploads/2021/11/4.jpg
END:VEVENT
BEGIN:VEVENT
DTSTART;TZID=America/Chicago:20211219T120000
DTEND;TZID=America/Chicago:20211219T143000
DTSTAMP:20260425T091710
CREATED:20211111T183151Z
LAST-MODIFIED:20211111T183220Z
UID:1668-1639915200-1639924200@hintoniowa.com
SUMMARY:Hinton Holiday Gift Wrapping
DESCRIPTION:December 19th 12PM-2:30PM \nHinton Community Center \nGoodwill Cash Donations Accepted.
URL:https://hintoniowa.com/event/hinton-holiday-gift-wrapping/
CATEGORIES:Community,General
ATTACH;FMTTYPE=image/jpeg:https://hintoniowa.com/wp-content/uploads/2021/11/5.jpg
END:VEVENT
BEGIN:VEVENT
DTSTART;TZID=America/Chicago:20211219T183000
DTEND;TZID=America/Chicago:20211219T183000
DTSTAMP:20260425T091710
CREATED:20211111T154404Z
LAST-MODIFIED:20211111T154404Z
UID:1660-1639938600-1639938600@hintoniowa.com
SUMMARY:Santa Claus is Coming to Town!
DESCRIPTION:https://www.facebook.com/events/428112302216882\n\nSanta Claus  is coming to town! \nSay “Hi!”  to Santa as his sleigh  passes by\,\nDelivering sweets  don’t miss these treats! \nHinton Community  street by street\,\nCheck the route  to get a sneak peek!\nSanta will be starting on Frontage Rd at 6:30pm\, heading  through the North side. Then going up Titan and making his way through the South side.\nOut of town kiddos\, Santa wants to see you too! Please park along Frontage Road to see Santa as he passes through!
URL:https://hintoniowa.com/event/santa-claus-is-coming-to-town/
CATEGORIES:Community,General
ATTACH;FMTTYPE=image/png:https://hintoniowa.com/wp-content/uploads/2021/11/sleigh.png
END:VEVENT
BEGIN:VEVENT
DTSTART;TZID=America/Chicago:20220205T093000
DTEND;TZID=America/Chicago:20220205T170000
DTSTAMP:20260425T091710
CREATED:20211207T155442Z
LAST-MODIFIED:20211207T155455Z
UID:1677-1644053400-1644080400@hintoniowa.com
SUMMARY:Snow Scamper 5K
DESCRIPTION:Registration until January 18th. Call 712-947-4270 or visit. PlymouthCountyParks.com
URL:https://hintoniowa.com/event/snow-scamper-5k/
LOCATION:Hillview Park
CATEGORIES:Community,General
ATTACH;FMTTYPE=image/jpeg:https://hintoniowa.com/wp-content/uploads/2021/12/ScamperFlyer2022-.jpg
END:VEVENT
BEGIN:VEVENT
DTSTART;TZID=America/Chicago:20230427T113000
DTEND;TZID=America/Chicago:20230427T123000
DTSTAMP:20260425T091710
CREATED:20230303T181302Z
LAST-MODIFIED:20230303T181329Z
UID:1796-1682595000-1682598600@hintoniowa.com
SUMMARY:Free Shred Event
DESCRIPTION:FREE SHRED EVENT-HOSTED BY NORTHWESTERN MUTUALTHURSDAY\, APRIL 27 – 11:30 a.m. – 12:30 P.M.\n1120 STARVIEW DR.\, STE 3\nHINTON\, IA 51024\nBring your confidential documents for on-site shredding. No\nbusiness dumping or large amounts of business documents\nallowed. Rubber bands\, paper clips\, and staples are allowed.\nFor more info\, contact Jan Dehner at 712-947-4450 \n  \nDownload Flier
URL:https://hintoniowa.com/event/free-shred-event-2/
LOCATION:1120 STARVIEW DR.\, STE 3\, 1120 STARVIEW DR.\, STE 3\, HINTON\, IA\, 51024\, United States
CATEGORIES:Community,General
END:VEVENT
BEGIN:VEVENT
DTSTART;TZID=America/Chicago:20260416T173000
DTEND;TZID=America/Chicago:20260416T183000
DTSTAMP:20260425T091710
CREATED:20260414T141819Z
LAST-MODIFIED:20260414T142418Z
UID:2473-1776360600-1776364200@hintoniowa.com
SUMMARY:Special Council Meeting and Readings of Waters Rate Ordinance
DESCRIPTION:PUBLIC NOTICE \nNOTICE OF SPECIAL COUNCIL MEETINGS AND READINGS OF WATER RATE ORDINANCEThe City Council of the City of Hinton\, Iowa\, will hold special council meetings and consider the \nreadings of an ordinance amending provisions of the City Code pertaining to water rates at the\nfollowing special council meetings: \n\nApril 16\, 2026\, at 5:30 PM\nMay 7\, 2026\, at 7:00 PM\nMay 14\, 2026\, at 5:30 PM\n\nAll meetings will be held at City Hall\, Hinton\, Iowa.
URL:https://hintoniowa.com/event/special-council-meeting-and-readings-of-waters-rate-ordinance/
LOCATION:Hinton City Hall\, 205 W Main St\, Hinton\, IA\, 51024\, United States
CATEGORIES:Community,General
ATTACH;FMTTYPE=image/png:https://hintoniowa.com/wp-content/uploads/2026/03/announcement-square.png
END:VEVENT
BEGIN:VEVENT
DTSTART;TZID=America/Chicago:20260507T190000
DTEND;TZID=America/Chicago:20260507T200000
DTSTAMP:20260425T091710
CREATED:20260414T142255Z
LAST-MODIFIED:20260414T142255Z
UID:2480-1778180400-1778184000@hintoniowa.com
SUMMARY:Special Council Meeting and Readings of Waters Rate Ordinance
DESCRIPTION:PUBLIC NOTICE \nNOTICE OF SPECIAL COUNCIL MEETINGS AND READINGS OF WATER RATE ORDINANCEThe City Council of the City of Hinton\, Iowa\, will hold special council meetings and consider the \nreadings of an ordinance amending provisions of the City Code pertaining to water rates at the\nfollowing special council meetings: \n\nApril 16\, 2026\, at 5:30 PM\nMay 7\, 2026\, at 7:00 PM\nMay 14\, 2026\, at 5:30 PM\n\nAll meetings will be held at City Hall\, Hinton\, Iowa.
URL:https://hintoniowa.com/event/special-council-meeting-and-readings-of-waters-rate-ordinance-2/
LOCATION:Hinton City Hall\, 205 W Main St\, Hinton\, IA\, 51024\, United States
CATEGORIES:Community,General
ATTACH;FMTTYPE=image/png:https://hintoniowa.com/wp-content/uploads/2026/03/announcement-square.png
END:VEVENT
BEGIN:VEVENT
DTSTART;TZID=America/Chicago:20260514T173000
DTEND;TZID=America/Chicago:20260514T183000
DTSTAMP:20260425T091710
CREATED:20260414T142519Z
LAST-MODIFIED:20260414T142519Z
UID:2482-1778779800-1778783400@hintoniowa.com
SUMMARY:Special Council Meeting and Readings of Waters Rate Ordinance
DESCRIPTION:PUBLIC NOTICE \nNOTICE OF SPECIAL COUNCIL MEETINGS AND READINGS OF WATER RATE ORDINANCEThe City Council of the City of Hinton\, Iowa\, will hold special council meetings and consider the \nreadings of an ordinance amending provisions of the City Code pertaining to water rates at the\nfollowing special council meetings: \n\nApril 16\, 2026\, at 5:30 PM\nMay 7\, 2026\, at 7:00 PM\nMay 14\, 2026\, at 5:30 PM\n\nAll meetings will be held at City Hall\, Hinton\, Iowa.
URL:https://hintoniowa.com/event/special-council-meeting-and-readings-of-waters-rate-ordinance-3/
LOCATION:Hinton City Hall\, 205 W Main St\, Hinton\, IA\, 51024\, United States
CATEGORIES:Community,General
ATTACH;FMTTYPE=image/png:https://hintoniowa.com/wp-content/uploads/2026/03/announcement-square.png
END:VEVENT
END:VCALENDAR