BEGIN:VCALENDAR
VERSION:2.0
PRODID:-//Hinton, Iowa - ECPv6.15.13//NONSGML v1.0//EN
CALSCALE:GREGORIAN
METHOD:PUBLISH
X-ORIGINAL-URL:https://hintoniowa.com
X-WR-CALDESC:Events for Hinton, Iowa
REFRESH-INTERVAL;VALUE=DURATION:PT1H
X-Robots-Tag:noindex
X-PUBLISHED-TTL:PT1H
BEGIN:VTIMEZONE
TZID:America/Chicago
BEGIN:DAYLIGHT
TZOFFSETFROM:-0600
TZOFFSETTO:-0500
TZNAME:CDT
DTSTART:20180311T080000
END:DAYLIGHT
BEGIN:STANDARD
TZOFFSETFROM:-0500
TZOFFSETTO:-0600
TZNAME:CST
DTSTART:20181104T070000
END:STANDARD
BEGIN:DAYLIGHT
TZOFFSETFROM:-0600
TZOFFSETTO:-0500
TZNAME:CDT
DTSTART:20190310T080000
END:DAYLIGHT
BEGIN:STANDARD
TZOFFSETFROM:-0500
TZOFFSETTO:-0600
TZNAME:CST
DTSTART:20191103T070000
END:STANDARD
BEGIN:DAYLIGHT
TZOFFSETFROM:-0600
TZOFFSETTO:-0500
TZNAME:CDT
DTSTART:20200308T080000
END:DAYLIGHT
BEGIN:STANDARD
TZOFFSETFROM:-0500
TZOFFSETTO:-0600
TZNAME:CST
DTSTART:20201101T070000
END:STANDARD
END:VTIMEZONE
BEGIN:VEVENT
DTSTART;VALUE=DATE:20191105
DTEND;VALUE=DATE:20191106
DTSTAMP:20260425T090809
CREATED:20190911T151653Z
LAST-MODIFIED:20190911T151653Z
UID:1218-1572912000-1572998399@hintoniowa.com
SUMMARY:City/School Election
DESCRIPTION:Nov. 5 City/School Election
URL:https://hintoniowa.com/event/city-school-election/
LOCATION:IA
CATEGORIES:General
END:VEVENT
BEGIN:VEVENT
DTSTART;TZID=America/Chicago:20191107T173000
DTEND;TZID=America/Chicago:20191107T183000
DTSTAMP:20260425T090809
CREATED:20190911T151747Z
LAST-MODIFIED:20190911T151747Z
UID:1220-1573147800-1573151400@hintoniowa.com
SUMMARY:November Council Meeting
DESCRIPTION:Nov. 7th 5:30pm council meeting
URL:https://hintoniowa.com/event/november-council-meeting/
LOCATION:IA
CATEGORIES:General
END:VEVENT
BEGIN:VEVENT
DTSTART;TZID=America/Chicago:20191116T100000
DTEND;TZID=America/Chicago:20191116T110000
DTSTAMP:20260425T090809
CREATED:20190910T222236Z
LAST-MODIFIED:20190910T222311Z
UID:1142-1573898400-1573902000@hintoniowa.com
SUMMARY:Knee High Naturalists: Creatures of the Night
DESCRIPTION:Knee High Naturalists is a program for 2-5 year old children and their\ncaretakers. Each program is held at Hillview Park in the Center for\nOutdoor Learning at 10am. The cost is $3.00 per child. Please register by\nnoon\, the day prior to the program. Outdoor activities will be modified if\nweather conditions are not favorable. Please dress appropriately for the\nweather
URL:https://hintoniowa.com/event/creatures-of-the-night/
LOCATION:Hillview Park
CATEGORIES:General,Knee High Naturalists
END:VEVENT
BEGIN:VEVENT
DTSTART;TZID=America/Chicago:20191130T100000
DTEND;TZID=America/Chicago:20191130T150000
DTSTAMP:20260425T090809
CREATED:20191030T154157Z
LAST-MODIFIED:20191030T154157Z
UID:1349-1575108000-1575126000@hintoniowa.com
SUMMARY:Craft and Vendor Event
DESCRIPTION:Craft and Vendor Event \nHinton Community Center \nSaturday\, November 30 \n10am-3pm \nProceeds benefit Kevin McDonald
URL:https://hintoniowa.com/event/craft-and-vendor-event/
LOCATION:Hinton Community Center\, 205 W Main St\, Hinton\, IA\, 51024\, United States
CATEGORIES:General
END:VEVENT
END:VCALENDAR